BEGIN:VCALENDAR
VERSION:2.0
PRODID:-//wp-events-plugin.com//7.2.3.1//EN
BEGIN:VEVENT
UID:532@valkyrien.se
DTSTART:20250406T080000Z
DTEND:20250406T140000Z
DTSTAMP:20250117T164802Z
URL:https://valkyrien.se/events/riggning-reservdag-4/
SUMMARY:Riggning\, reservdag
DESCRIPTION:\n\n\n\n\n&nbsp\;\n\n\n\n\n
CATEGORIES:Föreningen
LOCATION:Ombord\, Ombord\, Sverige
X-APPLE-STRUCTURED-LOCATION;VALUE=URI;X-ADDRESS=Ombord\, Sverige;X-APPLE-RA
 DIUS=100;X-TITLE=Ombord:geo:0,0
END:VEVENT
END:VCALENDAR