BEGIN:VCALENDAR
VERSION:2.0
PRODID:-//wp-events-plugin.com//7.2.3.1//EN
BEGIN:VEVENT
UID:250@valkyrien.se
DTSTART:20210430T090000Z
DTEND:20210430T190000Z
DTSTAMP:20210428T133108Z
URL:https://valkyrien.se/events/valborgssegling/
SUMMARY:Valborgssegling (inställd)
DESCRIPTION:Inställd pga pandemin!
CATEGORIES:Seglingar
LOCATION:Ombord\, Ombord\, Sverige
X-APPLE-STRUCTURED-LOCATION;VALUE=URI;X-ADDRESS=Ombord\, Sverige;X-APPLE-RA
 DIUS=100;X-TITLE=Ombord:geo:0,0
END:VEVENT
END:VCALENDAR